BEGIN:VCALENDAR
VERSION:2.0
PRODID:-//Sabre//Sabre VObject 4.5.3//EN
CALSCALE:GREGORIAN
BEGIN:VEVENT
UID:sabre-vobject-89f15461-0b30-4941-8954-f60d0f81ba56
DTSTAMP:20260425T145727Z
SUMMARY:Pfarrgemeinderatssitzung im Kath. Pfarr- und Jugendheim
DTSTART:20260522T191500
END:VEVENT
END:VCALENDAR
