BEGIN:VCALENDAR
VERSION:2.0
PRODID:-//Sabre//Sabre VObject 4.5.3//EN
CALSCALE:GREGORIAN
BEGIN:VEVENT
UID:sabre-vobject-27bdcc5f-c3a4-48e6-8991-f6c51ec4ffdb
DTSTAMP:20260423T071515Z
SUMMARY:Cafè "Vergiss mein nicht" im kath. Pfarr- und Jugendheim
DTSTART:20260521T143000
END:VEVENT
END:VCALENDAR
