BEGIN:VCALENDAR
VERSION:2.0
PRODID:-//Sabre//Sabre VObject 4.5.3//EN
CALSCALE:GREGORIAN
BEGIN:VEVENT
UID:sabre-vobject-8f13cdd9-ffc7-481b-8a31-8c445f9e032f
DTSTAMP:20260423T053153Z
SUMMARY:Heilige Messe
DTSTART:20260520T083000
END:VEVENT
END:VCALENDAR
