BEGIN:VCALENDAR
VERSION:2.0
PRODID:-//Sabre//Sabre VObject 4.5.3//EN
CALSCALE:GREGORIAN
BEGIN:VEVENT
UID:sabre-vobject-30cd6f72-958e-40ba-be20-0514c2e30f36
DTSTAMP:20260423T034726Z
SUMMARY:Kindergottesdienst im kath. Jugendheim
DTSTART:20260517T100000
END:VEVENT
END:VCALENDAR
