BEGIN:VCALENDAR
VERSION:2.0
PRODID:-//Sabre//Sabre VObject 4.5.3//EN
CALSCALE:GREGORIAN
BEGIN:VEVENT
UID:sabre-vobject-d87d67a8-f066-4660-b9b0-46df72ae8258
DTSTAMP:20260423T020002Z
SUMMARY:Pfarrgottesdienst für die Lebenden und Verstorbenen der Pfarreieng
 emeinschaft
DTSTART:20260517T083000
END:VEVENT
END:VCALENDAR
