BEGIN:VCALENDAR
VERSION:2.0
PRODID:-//Sabre//Sabre VObject 4.5.3//EN
CALSCALE:GREGORIAN
BEGIN:VEVENT
UID:sabre-vobject-ba70d0c9-07af-48ed-addf-a9f69ecdc030
DTSTAMP:20260422T195524Z
SUMMARY:Heilige Messe
DTSTART:20260519T183000
LOCATION:Hauptstraße 13\, 86706 Lichtenau
END:VEVENT
END:VCALENDAR
