BEGIN:VCALENDAR
VERSION:2.0
PRODID:-//Sabre//Sabre VObject 4.5.3//EN
CALSCALE:GREGORIAN
BEGIN:VEVENT
UID:sabre-vobject-317e07a4-da83-4d59-be51-173685352ee2
DTSTAMP:20260422T180858Z
SUMMARY:Vorabendmesse
DTSTART:20260516T183000
LOCATION:Hauptstraße 13\, 86706 Lichtenau
END:VEVENT
END:VCALENDAR
