BEGIN:VCALENDAR
VERSION:2.0
PRODID:-//Sabre//Sabre VObject 4.5.3//EN
CALSCALE:GREGORIAN
BEGIN:VEVENT
UID:sabre-vobject-e2bfa8ac-73e6-49ad-ae6a-82f9db1c4aad
DTSTAMP:20260422T162227Z
SUMMARY:Beichtgelegenheit
DTSTART:20260516T180000
LOCATION:Hauptstraße 13\, 86706 Lichtenau
END:VEVENT
END:VCALENDAR
