BEGIN:VCALENDAR
VERSION:2.0
PRODID:-//Sabre//Sabre VObject 4.5.3//EN
CALSCALE:GREGORIAN
BEGIN:VEVENT
UID:sabre-vobject-a7c47a5f-9f40-4b34-a3b5-1d78157e6027
DTSTAMP:20260425T181557Z
SUMMARY:Seniorennachmittag im Pfarrstadel
DTSTART:20260520T140000
END:VEVENT
END:VCALENDAR
