BEGIN:VCALENDAR
VERSION:2.0
PRODID:-//Sabre//Sabre VObject 4.5.3//EN
CALSCALE:GREGORIAN
BEGIN:VEVENT
UID:sabre-vobject-4eb24bfe-cb3e-4d7c-a733-576cf769841f
DTSTAMP:20260425T195037Z
SUMMARY:Friedensgebet an der Kirche
DTSTART:20260519T183000
END:VEVENT
END:VCALENDAR
