BEGIN:VCALENDAR
VERSION:2.0
PRODID:-//Sabre//Sabre VObject 4.5.3//EN
CALSCALE:GREGORIAN
BEGIN:VEVENT
UID:sabre-vobject-c28428de-0583-4659-8c1f-e74ddb86deea
DTSTAMP:20260425T214118Z
SUMMARY:Maiandacht
DTSTART:20260517T183000
END:VEVENT
END:VCALENDAR
