BEGIN:VCALENDAR
VERSION:2.0
PRODID:-//Sabre//Sabre VObject 4.5.3//EN
CALSCALE:GREGORIAN
BEGIN:VEVENT
UID:sabre-vobject-730aa95c-e9c1-4996-8251-ad150f1f8aac
DTSTAMP:20260425T233243Z
SUMMARY:Taufe Eliah Regenold
DTSTART:20260517T111500
END:VEVENT
END:VCALENDAR
