BEGIN:VCALENDAR
VERSION:2.0
PRODID:-//Sabre//Sabre VObject 4.5.3//EN
CALSCALE:GREGORIAN
BEGIN:VEVENT
UID:sabre-vobject-13c0215e-6f5e-4c2d-bb44-9fe427ac3765
DTSTAMP:20260426T010434Z
SUMMARY:Pfarrgottesdienst
DTSTART:20260517T100000
END:VEVENT
END:VCALENDAR
