BEGIN:VCALENDAR
VERSION:2.0
PRODID:-//Sabre//Sabre VObject 4.5.3//EN
CALSCALE:GREGORIAN
BEGIN:VEVENT
UID:sabre-vobject-f0018f98-5dbd-4127-8907-9ad73f56367d
DTSTAMP:20260426T023514Z
SUMMARY:Taufe Hannah Hempen
DTSTART:20260510T111500
END:VEVENT
END:VCALENDAR
