BEGIN:VCALENDAR
VERSION:2.0
PRODID:-//Sabre//Sabre VObject 4.5.3//EN
CALSCALE:GREGORIAN
BEGIN:VEVENT
UID:sabre-vobject-f7d43086-fb69-442e-8f67-009008f68016
DTSTAMP:20260422T225428Z
SUMMARY:Festgottesdienst Christi Himmelfahrt
DTSTART:20260514T100000
END:VEVENT
END:VCALENDAR
