BEGIN:VCALENDAR
VERSION:2.0
PRODID:-//Sabre//Sabre VObject 4.5.3//EN
CALSCALE:GREGORIAN
BEGIN:VEVENT
UID:sabre-vobject-87a25fa8-e24d-4e68-be09-a1283eb5fefd
DTSTAMP:20260422T212131Z
SUMMARY:Heilige Messe
DTSTART:20260513T083000
END:VEVENT
END:VCALENDAR
