BEGIN:VCALENDAR
VERSION:2.0
PRODID:-//Sabre//Sabre VObject 4.5.3//EN
CALSCALE:GREGORIAN
BEGIN:VEVENT
UID:sabre-vobject-7cc6fbcf-51ce-4735-bbdf-09bd0948d3e1
DTSTAMP:20260422T193656Z
SUMMARY:Beichtgelegenheit
DTSTART:20260509T180000
END:VEVENT
END:VCALENDAR
