BEGIN:VCALENDAR
VERSION:2.0
PRODID:-//Sabre//Sabre VObject 4.5.3//EN
CALSCALE:GREGORIAN
BEGIN:VEVENT
UID:sabre-vobject-6ea79fdc-ae72-4100-b1fe-20a500022b9f
DTSTAMP:20260422T175812Z
SUMMARY:Taufe Nayla Offensperger
DTSTART:20260509T160000
END:VEVENT
END:VCALENDAR
