BEGIN:VCALENDAR
VERSION:2.0
PRODID:-//Sabre//Sabre VObject 4.5.3//EN
CALSCALE:GREGORIAN
BEGIN:VEVENT
UID:sabre-vobject-8f973bad-3fa9-4aa4-b3a6-8ff1aad726a3
DTSTAMP:20260422T163414Z
SUMMARY:Vorabendmesse\, Verabschiedung und Begrüßung des Pfarrgemeinderat
 es
DTSTART:20260509T183000
END:VEVENT
END:VCALENDAR
