BEGIN:VCALENDAR
VERSION:2.0
PRODID:-//Sabre//Sabre VObject 4.5.3//EN
CALSCALE:GREGORIAN
BEGIN:VEVENT
UID:sabre-vobject-8835a297-145c-486a-82cc-aab9821689e6
DTSTAMP:20260422T151059Z
SUMMARY:Heilige Messe
DTSTART:20260508T183000
END:VEVENT
END:VCALENDAR
