BEGIN:VCALENDAR
VERSION:2.0
PRODID:-//Sabre//Sabre VObject 4.5.3//EN
CALSCALE:GREGORIAN
BEGIN:VEVENT
UID:sabre-vobject-a7ad5ba7-395a-4859-b4d8-b5b7b7e999b8
DTSTAMP:20260422T132339Z
SUMMARY:Maiandacht im Seniorenheim
DTSTART:20260508T160000
END:VEVENT
END:VCALENDAR
