BEGIN:VCALENDAR
VERSION:2.0
PRODID:-//Sabre//Sabre VObject 4.5.3//EN
CALSCALE:GREGORIAN
BEGIN:VEVENT
UID:sabre-vobject-b65c6c26-f595-4b00-a4ea-6ede58d6f74e
DTSTAMP:20260422T113450Z
SUMMARY:Krankenkommunion
DTSTART:20260508T000000
END:VEVENT
END:VCALENDAR
