BEGIN:VCALENDAR
VERSION:2.0
PRODID:-//Sabre//Sabre VObject 4.5.3//EN
CALSCALE:GREGORIAN
BEGIN:VEVENT
UID:sabre-vobject-338f57b8-90ff-43c0-92ae-608ff0b8818b
DTSTAMP:20260424T091835Z
SUMMARY:Heilige Messe
DTSTART:20260506T083000
END:VEVENT
END:VCALENDAR
