BEGIN:VCALENDAR
VERSION:2.0
PRODID:-//Sabre//Sabre VObject 4.5.3//EN
CALSCALE:GREGORIAN
BEGIN:VEVENT
UID:sabre-vobject-14a5e5fa-7fa2-470c-937e-6fbf1d79f41b
DTSTAMP:20260424T084457Z
SUMMARY:Friedensgebet an der Kirche
DTSTART:20260506T183000
LOCATION:Hauptstraße 13\, 86706 Lichtenau
END:VEVENT
END:VCALENDAR
