BEGIN:VCALENDAR
VERSION:2.0
PRODID:-//Sabre//Sabre VObject 4.5.3//EN
CALSCALE:GREGORIAN
BEGIN:VEVENT
UID:sabre-vobject-e27888d7-43d5-44d3-899a-729bb7d7210d
DTSTAMP:20260422T082219Z
SUMMARY:Beichtgelegenheit
DTSTART:20260502T180000
LOCATION:Hauptstraße 13\, 86706 Lichtenau
END:VEVENT
END:VCALENDAR
