BEGIN:VCALENDAR
VERSION:2.0
PRODID:-//Sabre//Sabre VObject 4.5.3//EN
CALSCALE:GREGORIAN
BEGIN:VEVENT
UID:sabre-vobject-3d34e462-ae6c-45f0-89ca-45f1e2924b7d
DTSTAMP:20260422T155326Z
SUMMARY:Festgottesdienst Christi Himmelfahrt
DTSTART:20260514T083000
LOCATION:Hauptstraße 13\, 86706 Lichtenau
END:VEVENT
END:VCALENDAR
