BEGIN:VCALENDAR
VERSION:2.0
PRODID:-//Sabre//Sabre VObject 4.5.3//EN
CALSCALE:GREGORIAN
BEGIN:VEVENT
UID:sabre-vobject-a9fafa20-1ecc-4198-8c26-24e546681562
DTSTAMP:20260422T141413Z
SUMMARY:Ewige Anbetung
DTSTART:20260514T080000
LOCATION:Hauptstraße 13\, 86706 Lichtenau
END:VEVENT
END:VCALENDAR
