BEGIN:VCALENDAR
VERSION:2.0
PRODID:-//Sabre//Sabre VObject 4.5.3//EN
CALSCALE:GREGORIAN
BEGIN:VEVENT
UID:sabre-vobject-30d05785-7674-4492-9ba8-adbf7a7a9636
DTSTAMP:20260422T123739Z
SUMMARY:Bittmesse und Flurumgang
DTSTART:20260512T183000
LOCATION:Hauptstraße 13\, 86706 Lichtenau
END:VEVENT
END:VCALENDAR
