BEGIN:VCALENDAR
VERSION:2.0
PRODID:-//Sabre//Sabre VObject 4.5.3//EN
CALSCALE:GREGORIAN
BEGIN:VEVENT
UID:sabre-vobject-9c80016c-b850-43a6-bb93-52d2b0b44f70
DTSTAMP:20260422T105737Z
SUMMARY:Maiandacht
DTSTART:20260510T183000
LOCATION:Hauptstraße 13\, 86706 Lichtenau
END:VEVENT
END:VCALENDAR
