BEGIN:VCALENDAR
VERSION:2.0
PRODID:-//Sabre//Sabre VObject 4.5.3//EN
CALSCALE:GREGORIAN
BEGIN:VEVENT
UID:sabre-vobject-4687d8b9-724c-4500-b467-a656e5bef149
DTSTAMP:20260424T084429Z
SUMMARY:Jugendwallfahrt in Pobenhausen am Kalvarienberg
DTSTART:20260503T110000
END:VEVENT
END:VCALENDAR
