BEGIN:VCALENDAR
VERSION:2.0
PRODID:-//Sabre//Sabre VObject 4.5.3//EN
CALSCALE:GREGORIAN
BEGIN:VEVENT
UID:sabre-vobject-5336c8e5-fc60-44dc-9a45-fe7a23e54601
DTSTAMP:20260424T084215Z
SUMMARY:Ökumenischer Volksfestgottesdienst im Festzelt
DTSTART:20260503T101500
END:VEVENT
END:VCALENDAR
