BEGIN:VCALENDAR
VERSION:2.0
PRODID:-//Sabre//Sabre VObject 4.5.3//EN
CALSCALE:GREGORIAN
BEGIN:VEVENT
UID:sabre-vobject-bc472fc3-3c3f-4ffc-aae7-a8e874eeead9
DTSTAMP:20260422T081813Z
SUMMARY:Gemeindebücherei im Jugendheim- bis 12 Uhr
DTSTART:20260503T103000
END:VEVENT
END:VCALENDAR
