BEGIN:VCALENDAR
VERSION:2.0
PRODID:-//Sabre//Sabre VObject 4.5.3//EN
CALSCALE:GREGORIAN
BEGIN:VEVENT
UID:sabre-vobject-be361391-ce37-4d6e-b630-393ccc34d8e4
DTSTAMP:20260422T080839Z
SUMMARY:Heilige Messe
DTSTART:20260505T183000
LOCATION:Hauptstraße 13\, 86706 Lichtenau
END:VEVENT
END:VCALENDAR
