BEGIN:VCALENDAR
VERSION:2.0
PRODID:-//Sabre//Sabre VObject 4.5.3//EN
CALSCALE:GREGORIAN
BEGIN:VEVENT
UID:sabre-vobject-d0ab40cc-ebc1-473a-986d-70db84058e69
DTSTAMP:20260424T083847Z
SUMMARY:Vorabendmesse\, Verabschiedung und Begrüßung des Pfarrgemeinderat
 es
DTSTART:20260502T183000
LOCATION:Hauptstraße 13\, 86706 Lichtenau
END:VEVENT
END:VCALENDAR
